BEGIN:VCALENDAR
VERSION:2.0
PRODID:-//wp-events-plugin.com//7.2.3.1//EN
TZID:Europe/Berlin
X-WR-TIMEZONE:Europe/Berlin
BEGIN:VEVENT
UID:185@horneburg.nrw
DTSTART;TZID=Europe/Berlin;VALUE=DATE:20251222
DTEND;TZID=Europe/Berlin;VALUE=DATE:20260107
DTSTAMP:20251119T210246Z
URL:https://horneburg.nrw/veranstaltungen/weihnachtsferien-2025-26/
SUMMARY:Weihnachtsferien 2025/26
DESCRIPTION:
ATTACH;FMTTYPE=image/jpeg:https://i0.wp.com/horneburg.nrw/wp-content/uploa
 ds/2023/12/horneburg.nrw-nrw-flagge.jpg?fit=250%2C250&ssl=1
CATEGORIES:2025,2026,Schulferien
END:VEVENT
BEGIN:VTIMEZONE
TZID:Europe/Berlin
X-LIC-LOCATION:Europe/Berlin
BEGIN:STANDARD
DTSTART:20251026T020000
TZOFFSETFROM:+0200
TZOFFSETTO:+0100
TZNAME:CET
END:STANDARD
END:VTIMEZONE
END:VCALENDAR