BEGIN:VCALENDAR
VERSION:2.0
PRODID:-//wp-events-plugin.com//7.2.3.1//EN
TZID:Europe/Berlin
X-WR-TIMEZONE:Europe/Berlin
BEGIN:VEVENT
UID:194@horneburg.nrw
DTSTART;TZID=Europe/Berlin;VALUE=DATE:20260720
DTEND;TZID=Europe/Berlin;VALUE=DATE:20260902
DTSTAMP:20251119T181457Z
URL:https://horneburg.nrw/veranstaltungen/sommerferien-2026/
SUMMARY:Sommerferien 2026
DESCRIPTION:
ATTACH;FMTTYPE=image/jpeg:https://i0.wp.com/horneburg.nrw/wp-content/uploa
 ds/2023/12/horneburg.nrw-nrw-flagge.jpg?fit=250%2C250&ssl=1
CATEGORIES:2026,Schulferien
END:VEVENT
BEGIN:VTIMEZONE
TZID:Europe/Berlin
X-LIC-LOCATION:Europe/Berlin
BEGIN:DAYLIGHT
DTSTART:20260329T030000
TZOFFSETFROM:+0100
TZOFFSETTO:+0200
TZNAME:CEST
END:DAYLIGHT
END:VTIMEZONE
END:VCALENDAR