BEGIN:VCALENDAR
VERSION:2.0
PRODID:-//wp-events-plugin.com//7.2.3.1//EN
TZID:Europe/Berlin
X-WR-TIMEZONE:Europe/Berlin
BEGIN:VEVENT
UID:178@horneburg.nrw
DTSTART;TZID=Europe/Berlin:20251212T190000
DTEND;TZID=Europe/Berlin:20251212T190000
DTSTAMP:20251119T073539Z
URL:https://horneburg.nrw/veranstaltungen/letzter-uebungsabend-des-loeschz
 ugs-horneburg-3/
SUMMARY:Letzter Übungsabend des Löschzugs Horneburg
DESCRIPTION:12. (Fr.) Letzter Übungsabend des Löschzugs Horneburg\n19:00 
 Uhr im Gerätehaus
ATTACH;FMTTYPE=image/jpeg:https://i0.wp.com/horneburg.nrw/wp-content/uploa
 ds/2023/09/horneburg.nrw-feuerwehr-horneburg.png?fit=250%2C250&ssl=1
CATEGORIES:2025,Horneburger Kalender,Löschzug Horneburg
LOCATION:Gerätehaus Horneburg\, Magdalenenstr. 3\, Datteln\, NRW\, 45711\,
  Kreis Recklinghausn\, Deutschland
X-APPLE-STRUCTURED-LOCATION;VALUE=URI;X-ADDRESS=Magdalenenstr. 3\, Datteln\
 , NRW\, 45711\, Kreis Recklinghausn\, Deutschland;X-APPLE-RADIUS=100;X-TIT
 LE=Gerätehaus Horneburg:geo:0,0
END:VEVENT
BEGIN:VTIMEZONE
TZID:Europe/Berlin
X-LIC-LOCATION:Europe/Berlin
BEGIN:STANDARD
DTSTART:20251026T020000
TZOFFSETFROM:+0200
TZOFFSETTO:+0100
TZNAME:CET
END:STANDARD
END:VTIMEZONE
END:VCALENDAR